BEGIN:VCALENDAR
VERSION:2.0
PRODID:-//Contratero//ES
CALSCALE:GREGORIAN
METHOD:PUBLISH
BEGIN:VEVENT
UID:ACCUEE/CS/PISA2025-MUESTRA AMPLIADA CANARIA@contratero.es
DTSTAMP:20260420T062709Z
DTSTART:20250225T235959
DTEND:20250226T005959
SUMMARY:Cierre: Aplicación  de la prueba de evaluación internacion
DESCRIPTION:Aplicación  de la prueba de evaluación internacional  PISA 2025.\\n\\nOrganismo: Dirección de la Agencia Canaria de Calidad Universitaria y Evaluación Educativa (ACCUEE)\\n\\nVer en Contratero: https://contratero.es/contracts/ACCUEE/CS/PISA2025-MUESTRA AMPLIADA CANARIA
URL:https://contratero.es/contracts/ACCUEE/CS/PISA2025-MUESTRA AMPLIADA CANARIA
STATUS:CONFIRMED
BEGIN:VALARM
TRIGGER:-P1D
ACTION:DISPLAY
DESCRIPTION:Recordatorio: Aplicación  de la prueba de ev
END:VALARM
END:VEVENT
END:VCALENDAR